BEGIN:VCALENDAR
VERSION:2.0
PRODID:-//Small Business Enterprise Centre - ECPv6.15.17.1//NONSGML v1.0//EN
CALSCALE:GREGORIAN
METHOD:PUBLISH
X-WR-CALNAME:Small Business Enterprise Centre
X-ORIGINAL-URL:https://enterprisecentre.ca
X-WR-CALDESC:Events for Small Business Enterprise Centre
REFRESH-INTERVAL;VALUE=DURATION:PT1H
X-Robots-Tag:noindex
X-PUBLISHED-TTL:PT1H
BEGIN:VTIMEZONE
TZID:America/Toronto
BEGIN:DAYLIGHT
TZOFFSETFROM:-0500
TZOFFSETTO:-0400
TZNAME:EDT
DTSTART:20250309T070000
END:DAYLIGHT
BEGIN:STANDARD
TZOFFSETFROM:-0400
TZOFFSETTO:-0500
TZNAME:EST
DTSTART:20251102T060000
END:STANDARD
BEGIN:DAYLIGHT
TZOFFSETFROM:-0500
TZOFFSETTO:-0400
TZNAME:EDT
DTSTART:20260308T070000
END:DAYLIGHT
BEGIN:STANDARD
TZOFFSETFROM:-0400
TZOFFSETTO:-0500
TZNAME:EST
DTSTART:20261101T060000
END:STANDARD
BEGIN:DAYLIGHT
TZOFFSETFROM:-0500
TZOFFSETTO:-0400
TZNAME:EDT
DTSTART:20270314T070000
END:DAYLIGHT
BEGIN:STANDARD
TZOFFSETFROM:-0400
TZOFFSETTO:-0500
TZNAME:EST
DTSTART:20271107T060000
END:STANDARD
END:VTIMEZONE
BEGIN:VEVENT
DTSTART;TZID=America/Toronto:20260420T140000
DTEND;TZID=America/Toronto:20260420T153000
DTSTAMP:20260420T022904
CREATED:20260325T132009Z
LAST-MODIFIED:20260420T033352Z
UID:19860-1776693600-1776699000@enterprisecentre.ca
SUMMARY:E-Commerce 201: Mastering 3 Pillars – Acquisition\, Conversion & Retention
DESCRIPTION:Purpose-built strategies for small businesses navigating today’s fast-paced online market.\n\n\nAbout the workshop: \nYou’ve validated your idea and taken the first steps toward launching your online store – now it’s time to grow! \nIn this follow-up to our ‘Intro to E-Commerce: From Idea to First Sale in Ten Steps’ session\, we’ll dive deeper into what it takes to build and scale a successful e-commerce business. \nThis workshop will focus on the three foundational pillars of e-commerce: acquisition\, conversion\, and retention. You’ll learn how to attract the right customers\, turn visitors into buyers\, and keep them coming back – all using proven strategies tailored for small businesses operating in today’s fast-moving digital marketplace. \nWhether you’re in the early stages of building your store or already making sales\, this webinar will equip you with practical\, actionable insights to help you strengthen your brand\, improve performance\, and grow sustainably. \n \n*Please note that you will receive an email with the link to join this webinar upon registering and before the session. If you do not receive it\, please check your junk mailbox.
URL:https://enterprisecentre.ca/events/e-commerce-201-mastering-3-pillars-acquisition-conversion-retention-4/
LOCATION:ON
CATEGORIES:SBCO,SBCOEvents
ATTACH;FMTTYPE=image/jpeg:https://enterprisecentre.ca/wp-content/uploads/2026/03/96d24222f85d4407ec829b7182f1c886-iPTaC3.jpg
END:VEVENT
END:VCALENDAR