BEGIN:VCALENDAR
VERSION:2.0
PRODID:-//Small Business Enterprise Centre - ECPv6.15.17.1//NONSGML v1.0//EN
CALSCALE:GREGORIAN
METHOD:PUBLISH
X-WR-CALNAME:Small Business Enterprise Centre
X-ORIGINAL-URL:https://enterprisecentre.ca
X-WR-CALDESC:Events for Small Business Enterprise Centre
REFRESH-INTERVAL;VALUE=DURATION:PT1H
X-Robots-Tag:noindex
X-PUBLISHED-TTL:PT1H
BEGIN:VTIMEZONE
TZID:America/Toronto
BEGIN:DAYLIGHT
TZOFFSETFROM:-0500
TZOFFSETTO:-0400
TZNAME:EDT
DTSTART:20240310T070000
END:DAYLIGHT
BEGIN:STANDARD
TZOFFSETFROM:-0400
TZOFFSETTO:-0500
TZNAME:EST
DTSTART:20241103T060000
END:STANDARD
BEGIN:DAYLIGHT
TZOFFSETFROM:-0500
TZOFFSETTO:-0400
TZNAME:EDT
DTSTART:20250309T070000
END:DAYLIGHT
BEGIN:STANDARD
TZOFFSETFROM:-0400
TZOFFSETTO:-0500
TZNAME:EST
DTSTART:20251102T060000
END:STANDARD
BEGIN:DAYLIGHT
TZOFFSETFROM:-0500
TZOFFSETTO:-0400
TZNAME:EDT
DTSTART:20260308T070000
END:DAYLIGHT
BEGIN:STANDARD
TZOFFSETFROM:-0400
TZOFFSETTO:-0500
TZNAME:EST
DTSTART:20261101T060000
END:STANDARD
END:VTIMEZONE
BEGIN:VEVENT
DTSTART;TZID=America/Toronto:20250910T120000
DTEND;TZID=America/Toronto:20250910T133000
DTSTAMP:20260421T042806
CREATED:20250814T044856Z
LAST-MODIFIED:20250910T094911Z
UID:16715-1757505600-1757511000@enterprisecentre.ca
SUMMARY:Intellectual Property Essentials
DESCRIPTION:What every small business needs to know.\n\n\nEvery small business has its unique selling points. It could be the name\, the brand\, the products\, or the way you do things. This free workshop will show you how and why intellectual property (IP) matters to your business. Felix Yuen\, IP & Commercialization Advisor from Henry Bernick Entrepreneurship Centre\, will share tips about how to protect your brands\, innovative ideas\, creative content and the secret sauce of your business. Bring your questions and be ready for some practical advice to help protect your business interactions with clients\, partners and competitors. \nOur facilitator: \nFelix Yuen is the IP & Commercialization Advisor at Henry Bernick Entrepreneurship Centre\, with the focus to develop and deliver programs that strengthen the IP knowledge and capabilities of the community. He is an IP consultant and practising lawyer\, and has international experience in IP management and monetization strategies. \n \n*This session will be now be offered online only.
URL:https://enterprisecentre.ca/events/intellectual-property-essentials/
LOCATION:Sydenham Campus\, 1130 8th Street East\, Owen Sound\, ON\, N4K 1M5\, Canada
CATEGORIES:Business Enterprise Centre- Grey County
ATTACH;FMTTYPE=image/jpeg:https://enterprisecentre.ca/wp-content/uploads/2025/08/fe639e4b5fa7eb076a22de48c477e8c5.jpg
END:VEVENT
END:VCALENDAR