BEGIN:VCALENDAR
VERSION:2.0
PRODID:-//Small Business Enterprise Centre - ECPv6.15.17.1//NONSGML v1.0//EN
CALSCALE:GREGORIAN
METHOD:PUBLISH
X-ORIGINAL-URL:https://enterprisecentre.ca
X-WR-CALDESC:Events for Small Business Enterprise Centre
REFRESH-INTERVAL;VALUE=DURATION:PT1H
X-Robots-Tag:noindex
X-PUBLISHED-TTL:PT1H
BEGIN:VTIMEZONE
TZID:America/Toronto
BEGIN:DAYLIGHT
TZOFFSETFROM:-0500
TZOFFSETTO:-0400
TZNAME:EDT
DTSTART:20250309T070000
END:DAYLIGHT
BEGIN:STANDARD
TZOFFSETFROM:-0400
TZOFFSETTO:-0500
TZNAME:EST
DTSTART:20251102T060000
END:STANDARD
BEGIN:DAYLIGHT
TZOFFSETFROM:-0500
TZOFFSETTO:-0400
TZNAME:EDT
DTSTART:20260308T070000
END:DAYLIGHT
BEGIN:STANDARD
TZOFFSETFROM:-0400
TZOFFSETTO:-0500
TZNAME:EST
DTSTART:20261101T060000
END:STANDARD
BEGIN:DAYLIGHT
TZOFFSETFROM:-0500
TZOFFSETTO:-0400
TZNAME:EDT
DTSTART:20270314T070000
END:DAYLIGHT
BEGIN:STANDARD
TZOFFSETFROM:-0400
TZOFFSETTO:-0500
TZNAME:EST
DTSTART:20271107T060000
END:STANDARD
END:VTIMEZONE
BEGIN:VTIMEZONE
TZID:America/New_York
BEGIN:DAYLIGHT
TZOFFSETFROM:-0500
TZOFFSETTO:-0400
TZNAME:EDT
DTSTART:20250309T070000
END:DAYLIGHT
BEGIN:STANDARD
TZOFFSETFROM:-0400
TZOFFSETTO:-0500
TZNAME:EST
DTSTART:20251102T060000
END:STANDARD
BEGIN:DAYLIGHT
TZOFFSETFROM:-0500
TZOFFSETTO:-0400
TZNAME:EDT
DTSTART:20260308T070000
END:DAYLIGHT
BEGIN:STANDARD
TZOFFSETFROM:-0400
TZOFFSETTO:-0500
TZNAME:EST
DTSTART:20261101T060000
END:STANDARD
BEGIN:DAYLIGHT
TZOFFSETFROM:-0500
TZOFFSETTO:-0400
TZNAME:EDT
DTSTART:20270314T070000
END:DAYLIGHT
BEGIN:STANDARD
TZOFFSETFROM:-0400
TZOFFSETTO:-0500
TZNAME:EST
DTSTART:20271107T060000
END:STANDARD
END:VTIMEZONE
BEGIN:VEVENT
DTSTART;TZID=America/Toronto:20260416T093000
DTEND;TZID=America/Toronto:20260416T110000
DTSTAMP:20260421T155318
CREATED:20260317T080443Z
LAST-MODIFIED:20260416T021849Z
UID:19710-1776331800-1776337200@enterprisecentre.ca
SUMMARY:Comparing the Big 5 AI Tools
DESCRIPTION:AI is everywhere—and for small business owners\, it can feel overwhelming fast.\n\n\nAI is everywhere—and for small business owners\, it can feel overwhelming fast. Everyone is talking about tools like ChatGPT\, Claude\, Gemini\, Copilot\, and Perplexity. But which one actually makes sense for your business? \nThis workshop cuts through the AI hype with a practical\, side?by?side comparison of the five most talked?about AI tools—so you can make smart\, confident decisions without wasting time or money. \nLed by Sara Norton of Reply All\, this session is designed specifically for small business owners who want clarity\, not complexity. \nIn this session\, you’ll get a clear\, plain?language comparison of: \n\nChatGPT\nClaude\nGemini\nCopilot\nPerplexity\n\nYou’ll learn: \n\nWhat each tool is actually good at\nWhere each tool falls short\nWhich tools are best for marketing\, content\, research\, admin\, and planning\nKey differences around accuracy\, privacy\, ease of use\, and cost\nCommon mistakes small business owners make when choosing AI tools\nHow to match the right AI tool to your business needs\, comfort level\, and concerns\n\nNo tech background required.This workshop is ideal for: \n\nSmall business owners curious about AI but unsure where to start\nEntrepreneurs already using AI who want to make better tool choices\nBusiness owners who don’t want to learn five tools—just the right one\nAnyone tired of conflicting advice and AI hype\n\nAbout the Speaker: Sara Norton is the founder of Reply All\, helping business owners use technology and AI in practical\, realistic ways that save time and support growth. Sara focuses on real?world application—not trends—so entrepreneurs can confidently use tools that actually work for them.
URL:https://enterprisecentre.ca/events/comparing-the-big-5-ai-tools/
CATEGORIES:SBCO,SBCOEvents
ATTACH;FMTTYPE=image/jpeg:https://enterprisecentre.ca/wp-content/uploads/2026/03/c36874ea44b0f610f5bd985e45fee579-bwh6aE.jpg
END:VEVENT
BEGIN:VEVENT
DTSTART;TZID=America/Toronto:20260416T110000
DTEND;TZID=America/Toronto:20260416T123000
DTSTAMP:20260421T155318
CREATED:20260317T080455Z
LAST-MODIFIED:20260416T021849Z
UID:19712-1776337200-1776342600@enterprisecentre.ca
SUMMARY:Entrepreneur Essentials: Start-Up 101: Regulations\, Registering & Licenses
DESCRIPTION:Join the  VBEC team for a group session on all you need to know about regulations\, business licenses\, and steps to registering your business
URL:https://enterprisecentre.ca/events/entrepreneur-essentials-start-up-101-regulations-registering-licenses-12/
CATEGORIES:SBCO,SBCOEvents
ATTACH;FMTTYPE=image/jpeg:https://enterprisecentre.ca/wp-content/uploads/2026/03/300dc51f771956cb8eef518eac507616-R3X8Cz.jpg
END:VEVENT
BEGIN:VEVENT
DTSTART;TZID=America/Toronto:20260416T120000
DTEND;TZID=America/Toronto:20260416T130000
DTSTAMP:20260421T155318
CREATED:20260402T194930Z
LAST-MODIFIED:20260416T021849Z
UID:19984-1776340800-1776344400@enterprisecentre.ca
SUMMARY:Greener Business\, Greater Impact
DESCRIPTION:Ahead of Earth Day\, learn how you can reduce waste and operate your business more sustainably. Hosted by guest speaker Liz\, co-founder and owner of Nickel Refillery\, this session covers how refill systems work and practical ways entrepreneurs can apply eco-friendly practices to their own businesses.
URL:https://enterprisecentre.ca/events/greener-business-greater-impact/
LOCATION:MS Teams
CATEGORIES:Growing your Business,SBCO,Webinars
ATTACH;FMTTYPE=image/png:https://enterprisecentre.ca/wp-content/uploads/2026/04/4-scaled-2UpBRu.png
END:VEVENT
BEGIN:VEVENT
DTSTART;TZID=America/Toronto:20260416T130000
DTEND;TZID=America/Toronto:20260416T150000
DTSTAMP:20260421T155318
CREATED:20260317T080455Z
LAST-MODIFIED:20260416T021849Z
UID:19713-1776344400-1776351600@enterprisecentre.ca
SUMMARY:Financials 101
DESCRIPTION:Join us for a comprehensive session on Financials 101\, tailored specifically for small business owners.\n\n\nJoin us for a comprehensive session on Financials 101\, tailored specifically for small business owners.  \nThis session will cover Recordkeeping\, Income taxes\, Harmonized Sale Tax\, Balance Sheet\, Income statement\, Cash Flow management\, and we will put all of the information together through a Proforma spreadsheet. Gain the knowledge and skills needed to effectively manage your business finances and make informed financial decisions.
URL:https://enterprisecentre.ca/events/financials-101-3/
LOCATION:Brampton Entrepreneur Centre + Co-working Space\, 41 George Street South\, Brampton\, ON\, L6Y 2E1\, Canada
CATEGORIES:SBCO,SBCOEvents
ATTACH;FMTTYPE=image/jpeg:https://enterprisecentre.ca/wp-content/uploads/2025/08/d5e82f6542342c0ddf2645db4a3ea2c7-YKxELJ.jpg
END:VEVENT
BEGIN:VEVENT
DTSTART;TZID=America/New_York:20260416T180000
DTEND;TZID=America/New_York:20260416T193000
DTSTAMP:20260421T155318
CREATED:20260318T083455Z
LAST-MODIFIED:20260416T021849Z
UID:19728-1776362400-1776367800@enterprisecentre.ca
SUMMARY:Business Planning Launchpad Series (2 of 4):  Sales and Marketing
DESCRIPTION:Get ready to boost your sales and marketing skills at our second installment of the Business Planning Launchpad Series!
URL:https://enterprisecentre.ca/events/business-planning-launchpad-series-2-of-4-sales-and-marketing-5/
CATEGORIES:SBCO,SBCOEvents
ATTACH;FMTTYPE=image/jpeg:https://enterprisecentre.ca/wp-content/uploads/2026/03/a4a47490cb9464b2e572a038e7307ca7-5XND6d.jpg
END:VEVENT
BEGIN:VEVENT
DTSTART;TZID=America/Toronto:20260416T180000
DTEND;TZID=America/Toronto:20260416T200000
DTSTAMP:20260421T155318
CREATED:20260318T083455Z
LAST-MODIFIED:20260416T021849Z
UID:19726-1776362400-1776369600@enterprisecentre.ca
SUMMARY:Business 101 – April 2026 – Night Virtual Event
DESCRIPTION:An overview of the essentials for getting into business.\n\n\nIn this 2-hour workshop\, the focus is on identifying what you need to get started on your entrepreneurship path. Special focus is given to introducing you to the tools of success that turn an idea into a business. \nIf you are unsure where to start to get into business for yourself\, this event will help give you the larger overview of all the things you need to consider. It is recommended to register for Stepping Into Business following this program to get more in depth information on the various requirements for starting a business.
URL:https://enterprisecentre.ca/events/business-101-april-2026-night-virtual-event/
CATEGORIES:SBCO,SBCOEvents
ATTACH;FMTTYPE=image/jpeg:https://enterprisecentre.ca/wp-content/uploads/2026/03/659226d1f1b215af003a1296c4817654-xPmXII.jpg
END:VEVENT
END:VCALENDAR