BEGIN:VCALENDAR
VERSION:2.0
PRODID:-//Small Business Enterprise Centre - ECPv6.15.17.1//NONSGML v1.0//EN
CALSCALE:GREGORIAN
METHOD:PUBLISH
X-ORIGINAL-URL:https://enterprisecentre.ca
X-WR-CALDESC:Events for Small Business Enterprise Centre
REFRESH-INTERVAL;VALUE=DURATION:PT1H
X-Robots-Tag:noindex
X-PUBLISHED-TTL:PT1H
BEGIN:VTIMEZONE
TZID:America/Toronto
BEGIN:DAYLIGHT
TZOFFSETFROM:-0500
TZOFFSETTO:-0400
TZNAME:EDT
DTSTART:20230312T070000
END:DAYLIGHT
BEGIN:STANDARD
TZOFFSETFROM:-0400
TZOFFSETTO:-0500
TZNAME:EST
DTSTART:20231105T060000
END:STANDARD
BEGIN:DAYLIGHT
TZOFFSETFROM:-0500
TZOFFSETTO:-0400
TZNAME:EDT
DTSTART:20240310T070000
END:DAYLIGHT
BEGIN:STANDARD
TZOFFSETFROM:-0400
TZOFFSETTO:-0500
TZNAME:EST
DTSTART:20241103T060000
END:STANDARD
BEGIN:DAYLIGHT
TZOFFSETFROM:-0500
TZOFFSETTO:-0400
TZNAME:EDT
DTSTART:20250309T070000
END:DAYLIGHT
BEGIN:STANDARD
TZOFFSETFROM:-0400
TZOFFSETTO:-0500
TZNAME:EST
DTSTART:20251102T060000
END:STANDARD
END:VTIMEZONE
BEGIN:VEVENT
DTSTART;TZID=America/Toronto:20240819T133000
DTEND;TZID=America/Toronto:20240819T143000
DTSTAMP:20260422T175015
CREATED:20240801T060440Z
LAST-MODIFIED:20240819T080451Z
UID:8008-1724074200-1724077800@enterprisecentre.ca
SUMMARY:Workplace Safety Essentials: A Practical Guide
DESCRIPTION:Whether you’re a seasoned business owner or just starting out\, workplace safety is crucial. Join for an enlightening session and explore fundamental safety practices applicable to everyone. From identifying hazards to understanding roles\, this webinar equips you with actionable insights to create a safer work environment. Essential information for all employers! Presented by Stella Nicastro-Greenough of Workplace Safety & Prevention Services.
URL:https://enterprisecentre.ca/events/workplace-safety-essentials-a-practical-guide/
LOCATION:Zoom
CATEGORIES:Business Basics,Forum,SBCO,Webinars
ATTACH;FMTTYPE=image/png:https://enterprisecentre.ca/wp-content/uploads/2024/08/General-Webinar-Graphic-AMJViJ.tmp_.png
END:VEVENT
BEGIN:VEVENT
DTSTART;TZID=America/Toronto:20240819T133000
DTEND;TZID=America/Toronto:20240819T143000
DTSTAMP:20260422T175015
CREATED:20240801T060451Z
LAST-MODIFIED:20240819T080452Z
UID:8010-1724074200-1724077800@enterprisecentre.ca
SUMMARY:Workplace Safety Essentials: A Practical Guide
DESCRIPTION:Whether you’re a seasoned business owner or just starting out\, workplace safety is crucial. Join for an enlightening session and explore fundamental safety practices applicable to everyone. From identifying hazards to understanding roles\, this webinar equips you with actionable insights to create a safer work environment. Essential information for all employers! Presented by Stella Nicastro-Greenough of Workplace Safety & Prevention Services
URL:https://enterprisecentre.ca/events/workplace-safety-essentials-a-practical-guide-2/
LOCATION:Zoom
CATEGORIES:SBCO,SBCOEvents,Webinars
ATTACH;FMTTYPE=image/png:https://enterprisecentre.ca/wp-content/uploads/2024/08/General-Webinar-Graphic-1-C8Vwvm.tmp_.png
END:VEVENT
END:VCALENDAR