BEGIN:VCALENDAR
VERSION:2.0
PRODID:-//Small Business Enterprise Centre - ECPv6.15.17.1//NONSGML v1.0//EN
CALSCALE:GREGORIAN
METHOD:PUBLISH
X-WR-CALNAME:Small Business Enterprise Centre
X-ORIGINAL-URL:https://enterprisecentre.ca
X-WR-CALDESC:Events for Small Business Enterprise Centre
REFRESH-INTERVAL;VALUE=DURATION:PT1H
X-Robots-Tag:noindex
X-PUBLISHED-TTL:PT1H
BEGIN:VTIMEZONE
TZID:America/Toronto
BEGIN:DAYLIGHT
TZOFFSETFROM:-0500
TZOFFSETTO:-0400
TZNAME:EDT
DTSTART:20230312T070000
END:DAYLIGHT
BEGIN:STANDARD
TZOFFSETFROM:-0400
TZOFFSETTO:-0500
TZNAME:EST
DTSTART:20231105T060000
END:STANDARD
BEGIN:DAYLIGHT
TZOFFSETFROM:-0500
TZOFFSETTO:-0400
TZNAME:EDT
DTSTART:20240310T070000
END:DAYLIGHT
BEGIN:STANDARD
TZOFFSETFROM:-0400
TZOFFSETTO:-0500
TZNAME:EST
DTSTART:20241103T060000
END:STANDARD
BEGIN:DAYLIGHT
TZOFFSETFROM:-0500
TZOFFSETTO:-0400
TZNAME:EDT
DTSTART:20250309T070000
END:DAYLIGHT
BEGIN:STANDARD
TZOFFSETFROM:-0400
TZOFFSETTO:-0500
TZNAME:EST
DTSTART:20251102T060000
END:STANDARD
END:VTIMEZONE
BEGIN:VEVENT
DTSTART;TZID=America/Toronto:20240924T130000
DTEND;TZID=America/Toronto:20240924T140000
DTSTAMP:20260423T055524
CREATED:20240905T121940Z
LAST-MODIFIED:20240920T081904Z
UID:8319-1727182800-1727186400@enterprisecentre.ca
SUMMARY:Navigating Human Resource Compliance and Creating a Solid HR Foundation for Success
DESCRIPTION:Join the St. Catharines Enterprise Centre for an information packed session about human resources. Explore how to construct a solid foundation for success\, discuss the basic HR needs\, importance of establishing contracts\, HR policies\, procedures\, and documentation. The session will also provide an overview of key HR laws\, regulations\, and new legislation on the radar in 2024. Presented by S&G HR Consulting.
URL:https://enterprisecentre.ca/events/navigating-human-resource-compliance-and-creating-a-solid-hr-foundation-for-success/
LOCATION:Zoom
CATEGORIES:Growing your Business,Growth,SBCO,Webinars
ATTACH;FMTTYPE=image/png:https://enterprisecentre.ca/wp-content/uploads/2024/09/General-Webinar-Graphic-EC5N0c.tmp_.png
END:VEVENT
END:VCALENDAR