BEGIN:VCALENDAR
VERSION:2.0
PRODID:-//Small Business Enterprise Centre - ECPv6.15.17.1//NONSGML v1.0//EN
CALSCALE:GREGORIAN
METHOD:PUBLISH
X-ORIGINAL-URL:https://enterprisecentre.ca
X-WR-CALDESC:Events for Small Business Enterprise Centre
REFRESH-INTERVAL;VALUE=DURATION:PT1H
X-Robots-Tag:noindex
X-PUBLISHED-TTL:PT1H
BEGIN:VTIMEZONE
TZID:America/Toronto
BEGIN:DAYLIGHT
TZOFFSETFROM:-0500
TZOFFSETTO:-0400
TZNAME:EDT
DTSTART:20240310T070000
END:DAYLIGHT
BEGIN:STANDARD
TZOFFSETFROM:-0400
TZOFFSETTO:-0500
TZNAME:EST
DTSTART:20241103T060000
END:STANDARD
BEGIN:DAYLIGHT
TZOFFSETFROM:-0500
TZOFFSETTO:-0400
TZNAME:EDT
DTSTART:20250309T070000
END:DAYLIGHT
BEGIN:STANDARD
TZOFFSETFROM:-0400
TZOFFSETTO:-0500
TZNAME:EST
DTSTART:20251102T060000
END:STANDARD
BEGIN:DAYLIGHT
TZOFFSETFROM:-0500
TZOFFSETTO:-0400
TZNAME:EDT
DTSTART:20260308T070000
END:DAYLIGHT
BEGIN:STANDARD
TZOFFSETFROM:-0400
TZOFFSETTO:-0500
TZNAME:EST
DTSTART:20261101T060000
END:STANDARD
END:VTIMEZONE
BEGIN:VEVENT
DTSTART;TZID=America/Toronto:20250515T140000
DTEND;TZID=America/Toronto:20250515T153000
DTSTAMP:20260422T174946
CREATED:20250415T121857Z
LAST-MODIFIED:20250515T175001Z
UID:15379-1747317600-1747323000@enterprisecentre.ca
SUMMARY:Navigating HR: What Ontario Businesses Need to Know (But Are Afraid to Ask)
DESCRIPTION:Looking to hire employees but having trouble navigating the process? Laura Friesen\, co-founder of Elevated HR & Consulting\, can help! This session will cover valuable information on HR plans\, recruitment\, employee agreements\, policies\, requirements and compliances\, as well as the difference between an employee and an independent contractor.
URL:https://enterprisecentre.ca/events/navigating-hr-what-ontario-businesses-need-to-know-but-are-afraid-to-ask/
LOCATION:Zoom
CATEGORIES:Growing your Business,SBCO,SBCOEvents,Webinars
ATTACH;FMTTYPE=image/png:https://enterprisecentre.ca/wp-content/uploads/2025/04/2025-Guest-Speaker-Graphics-HR-pofykN.tmp_.png
END:VEVENT
END:VCALENDAR